BEGIN:VCALENDAR
METHOD:PUBLISH
VERSION:2.0
PRODID:-//Eventilla iCal Syndication//NONSGML Liana//EN
BEGIN:VEVENT
UID:AX6Xd@eventilla.com
DTSTAMP:20250514T100000Z
DTSTART:20250514T100000Z
DTEND:20250514T110000Z
SUMMARY:Talousneuvonta yrittäjän arjessa
DESCRIPTION:Talousneuvonta yrittäjän arjessa\nWebinaari yrittäjille ja yrittäjien talousasioiden parissa toimiville\nYrittäjän henkilökohtainen talous ja yrityksen talous kulkevat yleensä käsi kädessä\, etenkin pienyrittäjillä. Kuten viimeiset vuodet ovat osoittaneet\, elämässä voi sattua yllättäviä tilanteita\, joihin ei itse pysty vaikuttamaan. Esimerkiksi maailman tilanteen muutosten\, pandemian\, sairastumisen tai elämäntilanteiden muutosten seurauksena yrittäjä voi joutua haastavaan taloudelliseen tilanteeseen. Apua ja neuvoja on saatavilla. Mitä varhaisemmassa vaiheessa tilannetta ja ratkaisuvaihtoehtoja lähtee selvittämään\, sen parempi.\nWebinaarissa käydään läpi seuraavia aiheita:\n\nHuomioita yrittäjän taloudesta\nTalous- ja velkaneuvonnan palvelut yrittäjille\nYksityishenkilön velkajärjestely yrittäjälle\n\nTilaisuus on maksuton ja suunnattu yrittäjille sekä erityisesti yrittäjien talousasioiden parissa työskenteleville.\nPuhujina talous- ja velkaneuvojat Henna Nokelainen ja Petteri Suominen Etelä-Savon oikeusaputoimiston talous- ja velkaneuvonnasta.\nIlmoittautuminen viimeistään 12.5.!\nAsiantuntijoille on mahdollisuus lähettää etukäteen kysymyksiä\, joihin vastataan tilaisuudessa. Ennakkokysymykset voi jättää ilmoittautumislomakkeella.\nTeams-linkki lähetetään ilmoittautuneille.
LOCATION:Webinaari (Teams)
URL:http://ssl.eventilla.com/talousneuvonta
END:VEVENT
END:VCALENDAR
