BEGIN:VCALENDAR
METHOD:PUBLISH
VERSION:2.0
PRODID:-//Eventilla iCal Syndication//NONSGML Liana//EN
BEGIN:VEVENT
UID:AXOVb@eventilla.com
DTSTAMP:20260615T090000Z
DTSTART:20260615T090000Z
DTEND:20260618T100000Z
SUMMARY:Vapaapainin valmennusviikko - Lapua
LOCATION:STEP-koulutus Lapua\, Siiriläntie 11-13\, 62100\, Lapua\, Suomi
URL:http://ssl.eventilla.com/event/AXOVb
END:VEVENT
END:VCALENDAR
