BEGIN:VCALENDAR
METHOD:PUBLISH
VERSION:2.0
PRODID:-//Eventilla iCal Syndication//NONSGML Liana//EN
BEGIN:VEVENT
UID:AXZWB@eventilla.com
DTSTAMP:20261030T220000Z
DTSTART:20261030T220000Z
DTEND:20261031T220000Z
SUMMARY:Majoitusvaraus Naisten viikonloppukurssi 31.10.-1.11.2026
DESCRIPTION:Tästä pääset varaamaan ja maksamaan majoituksen tapahtuman ajalle. Tarjolla on yhden ja kahden hengen huoneita rajallinen määrä.\nMajoituksiin ei sisälly liinavaatepakettia. Otathan mukaasi omat lakanat ja pyyhkeet.\nMikäli haluat majoittua jo ennen kurssin alkua\, varaathan ensin majoituksen kurssin ajaksi ja olet sen jälkeen yhteydessä:\nSTEP-koulutusKatja ForsströmKoulutuskoordinaattorikatja.forsstrom@step.fi+358404877499
LOCATION:STEP-koulutus, Järvenpääntie 640, 04400 Järvenpää\,
 Järvenpää
URL:http://ssl.eventilla.com/event/AXZWB
END:VEVENT
END:VCALENDAR
