BEGIN:VCALENDAR
METHOD:PUBLISH
VERSION:2.0
PRODID:-//Eventilla iCal Syndication//NONSGML Liana//EN
BEGIN:VEVENT
UID:Ae6gP@eventilla.com
DTSTAMP:20230119T160000Z
DTSTART:20230119T160000Z
DTEND:20230119T173000Z
SUMMARY:Teemailta: vinkkejä vaellusretkiksi teltan kanssa Lapissa
DESCRIPTION:Oletko harkinnut lähtöä telttavaellukselle Lappiin kesällä? Helsingin Latu ja Polku on toteuttanut melkein joka kesä viimeisen 15 vuoden aikana kesävaelluksen heinäkuun lopulla\, jolloin on kuljettu päivämatkoina 10-15 kilometriä ja maastossa on vietetty 5 yötä\, 6 päivää. Retkien opas Matti Niemelä kertoo kuvien ja karttojen avulla pääosin merkittyjen reittien ulkopuolella toteutettujen vaellusten suunnittelusta ja toteutuksesta eri erämaa-alueilla ja kansallispuistoissa.\nOlemme käyneet muun muassa UKK-puistossa\, Muotkatuntureilla\, Paistuntureilla\, Kaldoaivin erämaa-alueella\, Lemmenjoen kansallispuistossa ja tehneet Kilpisjärveltä vaelluksen Norjan ja Ruotsin puolelle.\nEnnakko ilmoittautuminen suotavaa\, mutta ei pakollista.\nPäivitämme teemaillan paikan pian.
LOCATION:Maunulan maja\, Metsäläntie 9\, 00620\, Helsinki
URL:http://ssl.eventilla.com/event/Ae6gP
END:VEVENT
END:VCALENDAR
