BEGIN:VCALENDAR
METHOD:PUBLISH
VERSION:2.0
PRODID:-//Eventilla iCal Syndication//NONSGML Liana//EN
BEGIN:VEVENT
UID:AeVZB@eventilla.com
DTSTAMP:20240423T054500Z
DTSTART:20240423T054500Z
DTEND:20240423T084500Z
SUMMARY:Mistä rahoitusta ja tukea elintarvikevientiin?
DESCRIPTION:Tervetuloa ilmoittautumaan!\nTilaisuuteen paikan päälle Business Finlandiin mahtuu 50 henkilöä ja tilaisuus on täynnä. Verkossa osallistujamäärää ei ole rajoitettu.\nOHJELMA\nTervetuloaPäivi Nerg\, valtiosihteeri\, maa- ja metsätalousministeriöTeam Finland -verkosto viennin polulla: zoomaus Business Finlandin rahoitukseenEeva Salminen\, johtaja\, Business FinlandBusiness Finlandin palvelut maailmallaLili Lehtovuori\, Global Opportunity Leader\, Business Finland\nTeam Finlandin palvelut KiinassaAnna-Stiina Antola\, Erityisasiantuntija\, elintarvikeala\, Pekingin suurlähetystö\nRahoitusta kasvuun ja vientiin ELYistäSalme Pihlajanmaa\, johtava asiantuntija ja Jaakko Ryymin\, rahoitusyksikön päällikköTaukoKinnusen Mylly\, onnistunut vientiprosessi ja kasvutarinaMarja-Riitta Kinnunen\, markkinointijohtajaVientiluvat maailmalle\, Ruokaviraston palvelut Tuula Lundén\, vientijaoston erityisasiantuntija\, Ruokavirasto Keskustelua ja kysymyksiäPäätössanatTapahtuma päättyy klo 11.45.\n  
LOCATION:Business Finland\, Porkkalankatu 1\, 00180\, Helsinki\, Suomi
URL:http://ssl.eventilla.com/event/AeVZB
END:VEVENT
END:VCALENDAR
