BEGIN:VCALENDAR
METHOD:PUBLISH
VERSION:2.0
PRODID:-//Eventilla iCal Syndication//NONSGML Liana//EN
BEGIN:VEVENT
UID:AeleY@eventilla.com
DTSTAMP:20230101T103000Z
DTSTART:20230101T103000Z
DTEND:20230430T143000Z
SUMMARY:Talviuinti saunasta kevät 2023
DESCRIPTION:TALVIUINTI SAUNANVUOROILLA KEVÄT 2023\nTällä lomakkeella voi ilmoittautu talviuntiin Helsingin Ladun ja Polun talviuntipaikalle Rastilaan. Tutustuthan ennen ilmoittautumista Rastilan talviunti ohjeisiin.\nKevätkauden saunavuorot alkavat su 1.1.2023 ja päättyvät su 30.4.2023. Pyhäpäivinä vuoroissa voi olla muutoksia. Muutoksista tiedotetaan erikseen. Olemme varanneet Rastila Campingiltä vuorot:"Vanha sauna" eli lähempänä rantaa oleva sauna/sauna 2tiistai                   15.00-19.30 sekavuorokeskiviikko           15.00-19.30 sekavuoro torstai                 15.00-19.30 sekavuorolauantai                09.00-13.00 sekavuorosunnuntai             12.30-17.30 sekavuoro  Uusi sauna / sauna 1ti                          17.00-19.30 sekavuoroto                         17.00-19.30 sekavuorosu                         15.00-17.30 sekavuoro\nKevään kausimaksu on 150 euroa.\nSaunavuoroille osallistujat voivat halutessaan lunastaa myös kontin käyttöoikeuden keväälle 10 euron hintaan. Kontin käyttöoikeuden voi lunastaa tällä samalla lomakkeella. Kontin avaimia jaetaan avaimen lunastaneille Rastilan talviuintikontilla tiistaina 3.1. klo 16.30-17.30. Jos et tällöin pääse hakemaan avainta\, tulee avain noutaa toimistolta. Sovithan tällöin noudosta erikseen.\nMuistathan\, että talviuinti edellyttää Helsingin Latu ja Polku ry:n jäsenyyttä. Jäseneksi voit liittyä: Liity jäseneksi. Mikäli sinulla on epäselvyyttä\, oletko jäsen\, voit tiedustella asiaa sähköpostitse toimisto@helsinginlatu.fi\nMikäli paikat ovat täynnä\, voit ilmoittautua jonoon. Jonossa oleville henkilöille ilmoitetaan (ilmoittautumisjärjestyksessä)\, jos paikkoja talviuintiin vapautuu.\n 
LOCATION:Rastilan talviuintipaikka\, Karavaanikatu 4\, 00980\, Helsinki\,
 Suomi
URL:http://ssl.eventilla.com/event/AeleY
END:VEVENT
END:VCALENDAR
