BEGIN:VCALENDAR
METHOD:PUBLISH
VERSION:2.0
PRODID:-//Eventilla iCal Syndication//NONSGML Liana//EN
BEGIN:VEVENT
UID:B33Yk@eventilla.com
DTSTAMP:20260525T143000Z
DTSTART:20260525T143000Z
DTEND:20260525T160000Z
SUMMARY:Suoja26-webinaari: suojan käyttöönoton ohjeistus
DESCRIPTION:Asuinkohteen erillisessä 50 neliömetrin S1-luokan väestönsuojassa on paikkoja 67 asukkaalle ja tilaa suojautujaa kohden on 0\,75 neliömetriä. Suoja on hyvin tyypillinen asuinrakennuksen väestönsuoja. Harjoitukseen osallistui noin 40 asukasta. Ennen suojautumista tila tyhjennettiin varastoiduista tavaroista\, varastorakenteet purettiin ja tila siivottiin ja tuuletettiin. Suojautumisen aluksi osallistujat pystyttivät tilan varusteet\, kuten sulkuteltan sisäänkäynnin eteen\, kolme käymälää ja väestönsuojan kerrossänkyjä. Ohjeet varusteiden pystyttämiseksi kuuluvat suojan varustukseen.\nHarjoituksesta toteutettiin myös AMK-opinnäytetyö väestönsuojan käyttöönoton ohjeistuksista ja ohjeiden kehittämisestä. Opinnäytetyön tekijä Jesse Tammi esittelee webinaarissa havaintojaan ja opinnäytetyön tuloksia.
LOCATION:Teams
URL:http://ssl.eventilla.com/event/B33Yk
END:VEVENT
END:VCALENDAR
