BEGIN:VCALENDAR
METHOD:PUBLISH
VERSION:2.0
PRODID:-//Eventilla iCal Syndication//NONSGML Liana//EN
BEGIN:VEVENT
UID:B3gZR@eventilla.com
DTSTAMP:20260930T053000Z
DTSTART:20260930T053000Z
DTEND:20261001T130000Z
SUMMARY:IATA DGR -koulutus radioaktiivisten aineiden lähettäjille
DESCRIPTION:IATA DGR -koulutus radioaktiivisten aineiden lähettäjille\nICAO-TI/IATA DGR:n vaatimusten mukaisesti toteutettu radioaktiivisten aineiden ilmakuljetuksia koskeva koulutus lähettäjille (IATA CBTA Staff Function 7.1 Personnel Responsible for Preparing Dangerous Goods Consignments).\nKurssin päätteeksi järjestetään ilmakuljetusmääräysten mukainen loppukoe.
LOCATION:Presto Oy, Suomen Turvaprojektit\, Rajavoudinkuja 5\, 01740\,
 Vantaa\, Suomi
URL:http://ssl.eventilla.com/event/B3gZR
END:VEVENT
END:VCALENDAR
