BEGIN:VCALENDAR
METHOD:PUBLISH
VERSION:2.0
PRODID:-//Eventilla iCal Syndication//NONSGML Liana//EN
BEGIN:VEVENT
UID:B8Rqb@eventilla.com
DTSTAMP:20230930T210000Z
DTSTART:20230930T210000Z
DTEND:20231018T210000Z
SUMMARY:Celebrating Cultures Beyond Books: Book Cover Challenge
DESCRIPTION:Join us at the Library for a festival full of fun and discovery\, as we celebrate the Qatar-Indonesia 2023 Year of Culture!\nAs part of this celebration\, we're holding the Book Cover Challenge for young adults.\nWe are celebrating this friendship by sharing the heritage\, values and traditions of our two countries. This challenge will allow young designers and avid readers who pay special attention to book covers to use their imagination to design their own cover for a published work.       \nFor more details\, please download the flyer and entry form here.\nIf you are interested you can also register to attend the How to Design a Book Cover workshop in Arabic.\nDate: 1 - 19 October\nLanguage: Arabic and English\nTarget Audience: Young Adults 12 - 18 Years
LOCATION:
URL:http://events.qnl.qa/event/B8Rqb
END:VEVENT
END:VCALENDAR
