BEGIN:VCALENDAR
METHOD:PUBLISH
VERSION:2.0
PRODID:-//Eventilla iCal Syndication//NONSGML Liana//EN
BEGIN:VEVENT
UID:B8yBk@eventilla.com
DTSTAMP:20220924T070000Z
DTSTART:20220924T070000Z
DTEND:20220924T120000Z
SUMMARY:Young Adults' Coding Camp: Fourth Session
DESCRIPTION:Qatar National Library is organizing its second coding camp\, this time in collaboration with AdStep\, an EdTech start-up led by a group of engineers from Qatar University. The aim of the sessions is to equip young adults with technical skills\, so get ready for an exciting\, hands-on journey full of coding\, robotics\, gaming and design!\n10:00 AM - 12:00 PM: Web Frameworks\nJoin this session to learn about website frameworks. \n12:00 - 1:00 PM: Break\n1:00 - 3:00 PM: The Internet of Things and Game Engines\nJoin this session to learn more about game engines and the Internet of Things. \n \nDate: 24 September 2022\nTime: 10:00 AM - 3:00 PM \nLanguage: Arabic and English\nTarget Audience: Young adults 12 - 18 years \nSeats are limited\, please click the button below to register.\n \nIf you are 18 years old or above\, you must show a green Ehteraz to attend an event at the Library. 
LOCATION:HL Presentation Room\, Qatar National Library, Education City, Al
 Luqta St\, Doha\, Qatar
URL:http://events.qnl.qa/event/B8yBk
END:VEVENT
END:VCALENDAR
