BEGIN:VCALENDAR
METHOD:PUBLISH
VERSION:2.0
PRODID:-//Eventilla iCal Syndication//NONSGML Liana//EN
BEGIN:VEVENT
UID:Bg7zw@eventilla.com
DTSTAMP:20250804T050000Z
DTSTART:20250804T050000Z
DTEND:20250815T130000Z
SUMMARY:Arctic Summer Programme 2025
DESCRIPTION:Welcome to the Arctic Summer Programme\, a new two-week summer study programme for international students right in the heart of Northern Finland! \nThe Arctic Summer Programme offers you the opportunity to experience the authentic local study life in Oulu for 2 weeks. During the programme\, you can enjoy the unique summer atmosphere of Northern Finland.\nYou can create new connections and improve your study and communication skills within one of the best education systems in the world. You will get to know the University of Oulu as well as the city of Oulu together with your co-students.\nThe programme includes many cultural events and free-time activities\, all taking place in August.
LOCATION:University of Oulu, Linnanmaa campus\, Erkki Koiso-Kanttilan katu
 1\, 90570\, Oulu\, Finland
URL:http://ssl.eventilla.com/arcticsummerprogramme25
END:VEVENT
END:VCALENDAR
