BEGIN:VCALENDAR
METHOD:PUBLISH
VERSION:2.0
PRODID:-//Eventilla iCal Syndication//NONSGML Liana//EN
BEGIN:VEVENT
UID:BgLA6@eventilla.com
DTSTAMP:20260310T160000Z
DTSTART:20260310T160000Z
DTEND:20260310T180000Z
SUMMARY:Kouvolan veroilta: Eri sijoitusmuotojen verotus
DESCRIPTION:Eri sijoitusmuotojen verotus\n\n\n\n\nVeronmaksajain Keskusliiton Kouvolan seudun paikallisyhdistys järjestää neuvontatilaisuuden eri sijoitusmuotojen verotuksesta.\nAiheesta alustaa verojuristi Georg Rosbäck Veronmaksajista.\nTilaisuus alkaa kahvitarjoilulla klo 17. \nIlmoittautuminen\nIlmoittaudu veroiltaan etukäteen alle avautuvalla lomakkeella tai soittamalla Veronmaksajien jäsenpalveluun p. 03010 5511 (pvm/mpm).\nTilaisuus on maksuton. Osallistuminen ei edellytä jäsenyyttä. Mukaan mahtuu 150 kuulijaa.\n\n\n\n \n\n\n\n\nVuosikokous\nVeronmaksajain Keskusliiton Kouvolan seudun paikallisyhdistyksen sääntömääräinen vuosikokous pidetään samassa paikassa neuvontatilaisuuden jälkeen.\n \n\n\n\n\n 
LOCATION:Kouvolan Lakritsi, Auditorio 2, Salpausselänkatu 57, Kouvola
URL:http://ssl.eventilla.com/event/BgLA6
END:VEVENT
END:VCALENDAR
