BEGIN:VCALENDAR
METHOD:PUBLISH
VERSION:2.0
PRODID:-//Eventilla iCal Syndication//NONSGML Liana//EN
BEGIN:VEVENT
UID:BgOOk@eventilla.com
DTSTAMP:20260423T100000Z
DTSTART:20260423T100000Z
DTEND:20260423T130000Z
SUMMARY:EtelÃ¤-Pohjanmaan Matkailufoorumi
DESCRIPTION:Tervetuloa mukaan EtelÃ¤-Pohjanmaan Matkailufoorumiin AlajÃ¤rvelle\nKevÃ¤Ã¤n 2026 Matkailufoorumin teemana on ruoka- ja juomamatkailu.\nLuvassa on mielenkiintoisia puheenvuoroja sekÃ¤ verkostoitumista. Tilaisuuden pÃ¤Ã¤tteeksi voit myÃ¶s osallistua tutustumiskierrokselle ja tehdÃ¤ ostoksia LÃ¤hiruokatuotetorilla sekÃ¤ viinimyymÃ¤lÃ¤ssÃ¤.\nÂ \n Punaisen Tuvan Viinitila\, AlajÃ¤rvi to 23.04.2026Â \nðŸ“\n Ilmoittaudu 10.4.2026 mennessÃ¤ðŸ’¼ Tilaisuus on tarkoitettu kaikille EtelÃ¤-Pohjanmaan matkailutoimijoille ja sidosryhmille.
LOCATION:Punaisen Tuvan Viinitila\, Koskenvarrentie 337\, 66900\,
 AlajÃ¤rvi
URL:http://ssl.eventilla.com/matkailufoorumi2026
END:VEVENT
END:VCALENDAR
