BEGIN:VCALENDAR
METHOD:PUBLISH
VERSION:2.0
PRODID:-//Eventilla iCal Syndication//NONSGML Liana//EN
BEGIN:VEVENT
UID:BgzKk@eventilla.com
DTSTAMP:20261020T060000Z
DTSTART:20261020T060000Z
DTEND:20261020T090000Z
SUMMARY:Henkilöstöhallinnon perusteet
DESCRIPTION:Kuvaus\nKoulutus tarjoaa kattavan yleiskatsauksen henkilöstöhallinnon tärkeimpiin osa-alueisiin ja rooliin liiketoiminnan tukena. Koulutuksessa käsitellään muun muassa henkilöstöjohtamisen roolia organisaation tavoitteiden saavuttamisessa\, sekä työnantajan vastuita ja velvollisuuksia. Lisäksi koulutuksessa perehdytään työsuhdeasioiden kehittämiseen ja niiden merkitykseen organisaation liiketoiminnassa.   \n\nTämä moduuli on 1 osa: Henkilöstöhallinnon työsuhdejuridiikan -koulutuskokonaisuutta\n\nVoit osallistua yhteen koulutuksen osaan (moduuliin) tai koko kokonaisuuteen.\nKouluttaja: Marjaana Murtomaa\n__Etäkoulutus: Moduuli 1\, Henkilöstöhallinnon perusteet\, PDF\nOhjelma klo 9.00–12.00 +/-15 min.\nKoulutuksessa käydään läpi mm. seuraavia aiheita:\n\nHenkilöstöhallinnon suhde liiketoimintaan\nHenkilöstöhallintoon liittyvät toiminnot\nHenkilöstöhallinto ja työnantajan vastuu ja velvollisuudet\nTyösuhdeasioiden kehittäminen\n\n__
LOCATION:Etäkoulutus\, Suomi
URL:http://ssl.eventilla.com/event/BgzKk
END:VEVENT
END:VCALENDAR
