BEGIN:VCALENDAR
METHOD:PUBLISH
VERSION:2.0
PRODID:-//Eventilla iCal Syndication//NONSGML Liana//EN
BEGIN:VEVENT
UID:DVoq0@eventilla.com
DTSTAMP:20260615T050000Z
DTSTART:20260615T050000Z
DTEND:20260618T100000Z
SUMMARY:Koululaisten kesäkerho 1.-4 luokkalaisille Suopellon koulussa 15.-18.6.2026
DESCRIPTION:Kesäkoululaiskerho on tarkoitettu naantalilaisille tänä lukuvuotena 1.- 4. luokalla oleville vuonna 2015 - 2018 syntyneille lapsille. Kerhopaikkana toimii Suopellon koulu ja sen lähiympäristö. Kerhohintaan 45€ sisältyy ohjaus\, tarvikkeet\, lounas\, välipala sekä vakuutus. Viikosta yksi päivä on retkipäivä. Retkikohde vahvistuu myöhemmin. Kerhon ohjaajina toimivat kaupungin koulunkäynninohjaajat.\nKerhon monipuolinen ohjelma sisältää leikkimistä\, pelailua\, askartelua sekä erilaisia kädentaitoja. Omatoimiselle leikille on varattu myös aikaa. Viikon aikana ulkoillaan ja pelaillaan myös koulun lähiympäristössä.\nKerhoviikoille otetaan 35 lasta ilmoittautumisjärjestyksessä.  Toiminta-aika on päivittäin klo 8.00-16.00. Torstaina 18.6. kerho sulkeutuu klo 13.00.\nIlmoittautuminen alkaa 12.3.2025 klo 17.00. Ilmoittautuminen on sitova ja se maksetaan heti ilmoittautumisen yhteydessä. \nLisätietoja:\nMaarit Paloluomaaamu- ja iltapäivätoiminnan koordinaattori\n050 4649912etunimi.sukunimi@naantali.fi\n 
LOCATION:Suopellon koulu\, Rimpikuja 4\, 21110\, Naantali\, Suomi
URL:http://ssl.eventilla.com/event/DVoq0
END:VEVENT
END:VCALENDAR
