BEGIN:VCALENDAR
METHOD:PUBLISH
VERSION:2.0
PRODID:-//Eventilla iCal Syndication//NONSGML Liana//EN
BEGIN:VEVENT
UID:EG929@eventilla.com
DTSTAMP:20251021T044500Z
DTSTART:20251021T044500Z
DTEND:20251021T060000Z
SUMMARY:Kutsu: Tekoäly muuttaa kaiken – vai muuttaako
DESCRIPTION:Muuttaako tekoäly todella kaiken vai toistaako historia kuitenkin itseään internetkuplan lailla? Kuinka meidän tulisi tarttua tekoälyyn ja onko kyse teknologia- vai kulttuurimuutoksesta? Tervetuloa kanssamme aamupäivään\, jossa Rastor-instituutin aluejohtaja ja johtamisen ja esihenkilötyön liiketoimintapäällikkö Janne Leuhtonen keskustelee tekoälymurroksesta ja sen vaikutuksista organisaatioissa. \nJannella on pitkä historia ohjelmistoalalla digitalisaatiohankkeiden muutosjohtamisen parissa sekä myynnin sekä liiketoimintajohdon tehtävissä. Hän tarkastelee tekoälymurrosta inhimillisestä ja organisaatiolähtöisestä näkökulmasta.\nOHJELMA7.45 Kahvia ja aamupuuroa8.00 Tekoäly muuttaa kaiken – vai muuttaako / Janne Leuhtonen8.45 Aikaa keskustelulle ja kysymyksille9.00 Hyvää työpäivää\nIlmoittauduthan 17.10 mennessä\, että osaamme varata oikean määrän tarjoiluita.\nTilaisuus on maksuton ja kaikille avoin.\nTervetuloa!\nLisätietoja: Kimmo Kauhanen\, p. 050 583 1021\, kimmo.kauhanen@rastorinst.fi
LOCATION:Tastory Origo\, Microkatu 1, M-rakennus\, 70210\, Kuopio
URL:http://ssl.eventilla.com/ai_muuttaa_kaiken_vai_muuttaako
END:VEVENT
END:VCALENDAR
