BEGIN:VCALENDAR
METHOD:PUBLISH
VERSION:2.0
PRODID:-//Eventilla iCal Syndication//NONSGML Liana//EN
BEGIN:VEVENT
UID:EGL8g@eventilla.com
DTSTAMP:20260223T150000Z
DTSTART:20260223T150000Z
DTEND:20260223T173000Z
SUMMARY:MANU-hankkeen infoilta
DESCRIPTION:Leader Varsin Hyvä toivottaa kaikki Naantalissa ja lähialueella toimivat yhdistykset\, yksin- ja pienyrittäjät sekä muut aiheesta kiinnostuneet tervetulleiksi pohtimaan\, voisiko juuri teidän toiminnassanne jatkossa olla mukana nuoria työntekijöinä ja toiminnan kehittäjinä. Infoillan tarkoitus on tarjota tietoa millaista apua toiminnan suunnitteluun ja kehittämiseen on tarjolla sekä kartoittaa toimijoiden tarpeita tulevia tilaisuuksia varten.\nNaantalin Pop-up toimisto / MANU:n infoilta\nMilloin: Pop-up toimisto klo 15:00-17:00 / MANU infoilta klo 17:00-19:30\nPaikka: Naantalin Kaupungintalo\nOhjelma:\nKlo 15:00-17:00    Leader Varsin Hyvän pop-up-toimistolle voit tulla juttelemaan ja kysymään lisää hankeideoistanne.\nKlo 17:00    Kahvia ja pientä purtavaa\nKlo 17:30    Tervetuloa MANU-hankkeen Infoiltaan\nKlo 17:30-18:00    Mikä on MANU-hanke ja mitä se tarjoaa paikallisille toimijoille?\nKlo 18:00-18:20    Naantalin kaupungin terveiset\nKlo 18:20-18:50    Puheenvuoroja\nKlo 18:50-19:15    Leader-tuet apuna kehittämiseen ja työllistämiseen\nKlo 19.15-19:30    Tulevat mahdollisuudet\, infot ja retket.\nMANU-hankkeen tavoitteena on kehittää konkreettisia keinoja\, joilla nuoret voivat työllistyä\, harjoitella ja osallistua paikalliseen toimintaan maaseutualueilla. Samalla tuetaan yhdistysten uudistumista ja nuorentumista sekä yritysten mahdollisuuksia löytää motivoituneita harjoittelijoita ja työntekijöitä. Tavoitteena on rakentaa käytännönläheisiä yhteistyömalleja\, joissa nuoret pääsevät kehittämään osaamistaan ja paikalliset toimijat saavat tukea toimintaansa. Hankkeessa tehdään tiivistä yhteistyötä yhdistysten\, kylätoimijoiden\, yrittäjien\, oppilaitosten ja kuntien työllisyyspalveluiden kanssa. Nuorille tarjotaan mahdollisuuksia osallistua esimerkiksi harjoittelun\, kesätyön\, projektityön tai vapaaehtoistoiminnan kautta myös epätavanomaisissa ympäristöissä\, joissa oppiminen tapahtuu tekemällä.\nLisätiedot:\nEeva Mettala-Willberg\, Eeva.Mettala-Willberg@varsinhyva.fiEetu Orava\, eetu.orava@varsinhyva.fi
LOCATION:Naantalin kaupungintalo\, Käsityöläiskatu 2\, Naantali\, Suomi
URL:http://ssl.eventilla.com/manuinfoilta
END:VEVENT
END:VCALENDAR
