BEGIN:VCALENDAR
METHOD:PUBLISH
VERSION:2.0
PRODID:-//Eventilla iCal Syndication//NONSGML Liana//EN
BEGIN:VEVENT
UID:EGLqM@eventilla.com
DTSTAMP:20260520T060000Z
DTSTART:20260520T060000Z
DTEND:20260520T130000Z
SUMMARY:Työhyvinvointikorttikoulutus
DESCRIPTION:Työhyvinvointikorttikoulutus® on innostava ja ohjaava koulutus\, joka synnyttää kipinän yhteiseen työpaikan kehittämiseen. Koulutus antaa käytännön keinoja tunnistaa työyhteisön vahvuudet ja kehityskohteet\, hallita työkuormaa sekä tukea työkykyä. Osallistujat oppivat edistämään sujuvaa yhteistyötä\, jotta työpaikasta muodostuu entistä kestävämpi ja merkityksellisempi kaikille työntekijöille.\nKoulutuksessa käsitellään keskeisiä työhyvinvointiin vaikuttavia asioita. Koulutuksen aikana löydät vastaukset muun muassa seuraaviin kysymyksiin:\n\nMistä työhyvinvointi rakentuu?\nMitä voimavaroja ja kehittämistarpeita työpaikalla on?\nMiten johtamisella ja työyhteisön keinoin parannetaan työhyvinvointia?\nMiten hallitaan kuormitusta sekä tuetaan terveyttä ja työkykyä?\nMiten hyvä työyhteisö toimii?\n\nTyöelämän kuormitustekijät\, kuten stressi\, epäselvät roolit ja liian kova työtahti\, voivat heikentää hyvinvointia ja työkykyä merkittävästi. Työpaikan voimavaroihin lukeutuvat hyvä yhteistyötaidot\, tuki- ja vaikutusmahdollisuudet sekä työn merkityksellisyys\, voivat puolestaan vahvistaa jaksamista ja edistää työyhteisön hyvinvointia.
LOCATION:Suomen ympäristöopisto SYKLI\, Esterinportti 1\, 00240\,
 Helsinki\, Suomi
URL:http://ssl.eventilla.com/event/EGLqM
END:VEVENT
END:VCALENDAR
