BEGIN:VCALENDAR
METHOD:PUBLISH
VERSION:2.0
PRODID:-//Eventilla iCal Syndication//NONSGML Liana//EN
BEGIN:VEVENT
UID:EGzzd@eventilla.com
DTSTAMP:20240919T063000Z
DTSTART:20240919T063000Z
DTEND:20241118T130000Z
SUMMARY:Kulttuuriperintödialogit ammattilaisille
DESCRIPTION:Suomen kansallismuseo tuo dialogikeskustelun kulttuuriperinnön omistajuudesta ja hallinnasta museo- ja kulttuurialan ammattilaisille  Museo- ja kulttuurialan ammattilaisille suunnatut dialogikeskustelut ovat Máhccan-elokuvan (Kotiinpaluu\, Vaski-filmi Oy\, 2022)\, Suomen kansallismuseon ja Erätauko-säätiön yhteistyönä kolmella paikkakunnalla järjestettävä dialogikiertue. Osallistumalla dialogiin sinulla on mahdollisuus saada omakohtainen kokemus dialogimenetelmästä ja keskustella museotyöhön liittyvistä kysymyksistä\, joita Kotiinpaluu-elokuva herättää. Ilmoittautuminen on nyt auki! \nSillä\, kuka kertoo kenenkin tarinaa\, on valtavasti merkitystä. Museot kertovat tarinoita\, ja niillä on ollut läpi historian suuri merkitys vähemmistöihin kohdistuvien stereotypioiden ylläpitämisessä. Suomen kansallismuseo palautti vuonna 2021 yli 2000 esineen saamelaiskokoelmansa Saamelaismuseo Siidalle. Museot palkittiin vuonna 2022 tästä kulttuuriperinnön palauttamisesta eli repatriaatiosta Europa Nostra -kulttuuriperintöpalkinnolla. Tämä kansainvälisesti merkittävä repatriaatio toimii lähtöpisteenä Suvi Westin ja Anssi Kömin Jussi-palkitussa dokumenttielokuvassa\, joka laajenee käsittelemään kulttuuriperinnön merkitystä ja omistajuutta\, yhteyttä esivanhempiin ja anteeksiantoa.   \nMuseoammattilaisten dialogikeskustelut järjestetään:  \nto 19.9. klo 9.30-11.30\, Helsingissä Puistokatu 4:ssä  \nto 3.10. klo 13-15\, Oulun taidemuseossa \nma 18.11. Klo 13-15\, Tampereella Postimuseon Kohtaamispaikka Kuplassa \nLähetämme keskustelijoille tarkemmat saapumis- ja osallistumisohjeet hyvissä ajoin ennen keskustelua. Keskustelut käydään suomeksi. Olethan yhteydessä\, mikäli tarvitset tulkkia.\nLisätietoja: tapahtumat@kansallismuseo.fi\nTervetuloa keskustelemaan!\n \nOsallistujat katsovat ennen tilaisuutta Kotiinpaluu-elokuvan (kesto 1 h 15 min) omatoimisesti. Lähetämme ilmoittautuneille linkin elokuvaan. Dialogitilaisuudessa keskustellaan elokuvan teemoista yhdessä. Dialogikeskustelujen kiertueen tarkoituksena on lisätä Kotiinpaluu-elokuvan katsomiskokemuksen pohjalta keskustelua kulttuuriperinnön omistajuudesta ja syventää ymmärrystä. Erätauko-säätiö tarjoaa osallistujille mahdollisuuden kouluttautua dialogimenetelmän käyttöön kiertueen jälkeen ti 14.1. klo 9-15 ja ti 28.1. klo 9-12.  \nSuomen kansallismuseo kehittää kiertueella omaa dialogimenetelmäänsä. Museon tavoitteena on kehittää dialogeista pysyvä toimintamuoto yhteisöjen kanssa toimimiseen ja osallisuuden lisäämiseen tulevaisuudessa. Kansallismuseon uudisosan\, historiallisen päärakennuksen ja pihapuiston muodostama museokokonaisuus avautuu yleisölle vuonna 2027.  \nLuottamuksellisesti ja rakentavasti keskustellen \nDialogien pohjalla on Sitran kehittämä Erätauko-keskustelumenetelmä. Dialogi antaa osallistujille mahdollisuuden tulla kuulluksi ja kokea osallisuutta\, sekä tarjoaa tilaa tuoda omia näkökulmia esille. Dialogi syntyy hetkessä; siihen ei tarvitse valmistautua ennakkoon. Keskustelu käydään omien kokemusten pohjalta. Keskustelut ovat luottamuksellisia ja ne käydään rakentavan keskustelun pelisääntöjen mukaan. Tarkoituksena ei ole päästä ratkaisuihin tai yksimielisyyteen.  Osallistuminen on maksutonta ja mukaan mahtuu 12 keskustelijaa.
LOCATION:Suomi
URL:http://ssl.eventilla.com/event/EGzzd
END:VEVENT
END:VCALENDAR
