BEGIN:VCALENDAR
METHOD:PUBLISH
VERSION:2.0
PRODID:-//Eventilla iCal Syndication//NONSGML Liana//EN
BEGIN:VEVENT
UID:GGgvL@eventilla.com
DTSTAMP:20230103T170000Z
DTSTART:20230103T170000Z
DTEND:20230509T180000Z
SUMMARY:Lentopallon kevätkausi 2023
DESCRIPTION:Lentopallon kevätkausi 2023\nLentopallon sisävuorot alkavat tammikuun ensimmäisenä tiistaina 3.1.2023. Pelit jatkuvat sisätiloissa aina toukokuun alkuun saakka. Tiistaina 9.5. pelataan viimeinen sisävuoro\, jonka jälkeen siirrytään ulkopeleihin.\nTule mukaan pelaamaan lentopalloa hyvässä ja aktiviisessa porukassa! Lentopallo tuo mukavasti hien pintaan ja iloa arki-iltaan. Mukaan mahtuu uusiakin pelaajia. Mukaan voi tulla matalalla kynnyksessä. Kaksi kokeilukertaa ovat veloituksettomia. Lentopalloa pelataan tiistaisin klo 19-21 Haagan peruskoululla\, osoitteessa Isonnevantie 16\, Helsinki. \nLentopallon kausimaksu on 55 €. Lisätietojan porukan vetäjältä:Martti Korhonen p. 040 548 1729 kormartti@gmail.com
LOCATION:Haagan peruskoulu\, Isonnevantie 16\, 00320\, Helsinki\, Suomi
URL:http://ssl.eventilla.com/event/GGgvL
END:VEVENT
END:VCALENDAR
