BEGIN:VCALENDAR
METHOD:PUBLISH
VERSION:2.0
PRODID:-//Eventilla iCal Syndication//NONSGML Liana//EN
BEGIN:VEVENT
UID:GGlOL@eventilla.com
DTSTAMP:20221013T063000Z
DTSTART:20221013T063000Z
DTEND:20221013T094500Z
SUMMARY:Ajankohtaista uudesta yhteistoimintalaista ja muutosneuvotteluista
DESCRIPTION:Miten hyvin tunnet yhteistoimintalain uudistuksen\, joka tuli voimaan 1.1.2022? Tässä koulutuksessa käydään läpi uuden yhteistoimintalain keskeiset muutokset kuten jatkuva vuoropuhelu työnantajan ja henkilöstön välillä sekä muutosneuvotteluiden sisältö.\nKoulutus on suunnattu erityisesti sellaisille asianajajille ja juristeille\, jotka työssään neuvovat työnantajia. Saat kattavan tietopaketin keskeisistä velvoitteista sekä käytännönläheiset vinkit muutosneuvotteluiden läpiviemiseen.Kouluttajana toimii asianajaja\, osakas Outi Tähtinen\, Asianajotoimisto Castrén & Snellman Oy.\nOhjelma klo 9.30–12.45\, myös etänä\n9.30Uusi yhteistoimintalaki – mikä kaikki on muuttunut?\n10.30Muutosneuvottelut- neuvotteluiden osapuolet- valmistautuminen neuvotteluihin- muutosneuvotteluiden käytännön toteutus ja neuvotteluiden läpivieminen- työnantajan päätöksenteko - neuvotteluiden jälkeiset velvoitteet\n11.30Tauko \n11.45Muutosneuvottelun käsittely jatkuu\n12.45 Tilaisuus päättyy  \nHinta\n270 euroa kurssipaikalla osallistuvalle (sisältää kahvit) ja 240 euroa etäosallistujalle.\nKurssin hintaan kuuluu opetus\, materiaalit ja ohjelman mukaiset tarjoilut kurssipaikalla osallistuttaessa. Huomaathan\, että koulutuksemme ovat vain jäsenillemme ja asianajotoimistojen henkilökunnalle.\nKouluttautumisvelvoite\n3 tuntia (koulutukseen sisältyy 15 minuutin tauko)\nJärjestäjä\nSuomen Asianajajaliitto\nIlmoittautuminen\nValitse haluamasi ilmoittautumisvaihtoehto alta viimeistään 6.10.2022. Täytäthän kaikki pyydetyt tiedot huolellisesti. \nPeruutusehdoista voit lukea ylhäältä välilehdeltä peruutusehdot ja muutokset.\nJäsentietojasi ei päivitetä ilmoittautuessa annettujen tietojen perusteella. Voit jäsenenä päivittää yhteystietosi suoraan Asiointipalvelu ASSIssa tai osoitteella jasenasiat@asianajajaliitto.fi. Jos et ole jäsen ja ilmoittaudut ensimmäisen kerran tilaisuuteen\, lisätään tietosi Asianajajaliiton asiakasrekisteriin.\nLisätietoja tietosuojasta 
LOCATION:Tekniskan Salit\, Eerikinkatu 2, 6. krs\, 00100\, Helsinki\,
 Finland
URL:http://ssl.eventilla.com/event/GGlOL
END:VEVENT
END:VCALENDAR
