BEGIN:VCALENDAR
METHOD:PUBLISH
VERSION:2.0
PRODID:-//Eventilla iCal Syndication//NONSGML Liana//EN
BEGIN:VEVENT
UID:GGz6X@eventilla.com
DTSTAMP:20220806T070000Z
DTSTART:20220806T070000Z
DTEND:20220806T150000Z
SUMMARY:ADVENTURE RACE FAMILY @ ROISKE
DESCRIPTION:Perheseikkailun uusi aikakausi alkaa 6.8.2022!\nAdventure Race Family @ Roiske \nPerheet!\nOletteko valmiit ottamaan mittaa toisista? Elokuussa vesi lentää ja nauru raikaa.\nAdventure Race Family @ Roiske on ainutlaatuinen perheseikkailu\, jossa perheet taistelevat AR Familyn herruudesta\, Ounasjoen rantaviivalla. Ounaspaviljongin silmiä hivelevä luonto ja erilaiset tehtävärastit tarjoilevat unohtumattoman kesäpäivän.\nAdventure Race Family @ Roiskeen perheseikkailu on leikkimielinen kisa\, jossa jokainen perhe etenee omalla tahdillaan\, yhteistyötaitoja kehittäen. Joukkueessa seikkailijoita on 3 - 6. \nAdventure Race Family @ Roiskeessa perheet voivat ilmottautua joko miniskidi- tai skidisarjaan. Miniskideissa kaikki lapset ovat (uimataidottomia) alle kouluikäisiä. Skideissä seikkailee uimataidon omaavia lapsia ja nuoria. Jos perheessä on yksi alle kouluikäinen ja muut lapset isompia\, ilmoittaudu skidisarjaan.\nAdventure Race Family @ Roiskeen tehtävärasteista osa on kuivalla maalla ja osa veden äärellä. Tehtävärastit vaativat älyä\, nokkeluutta\, ketteryyttä\, pienuutta\, suuruutta\, rohkeutta\, vuorovaikutusta ja ennen kaikkea tiimityötä.\nAdventure Race Family @ Roiskeessa jokainen aikuinen seikkailija seikkailee omalla vastuullaan ja kaikki lapset vanhempien vastuulla. Ennen h-hetkeä on varmistettava vakuutusten kattavuus ja voimassaolo.\nAdventure Race Family @ Roiskeessa jokainen joukkue pukeutuu omalla persoonallisella tyylillään. Paras ”tiimiasu” palkitaan!\nAdventure Race Family @ Roiskeen kisakylä rakennetaan Kesätekemisen keskus Roiskeen ympäristöön\, jossa sijaitsevat myös seikkailun lähtö- ja maalialue. Kisakylästä löytyy ruokaa\, juomaa ja erilaisia aktiviteetteja. Myös MUUMIT rakastavat seikkaua ja tulevat Naantalista asti meitä ilahduttamaan. \n \nLiput\, hinnat alkaen \n(sis. seikkailun \, Muumit ja alueen aktiviteetit)\n 35€    Seikkailulippu\, yksittäinen\n125€    Perhelippu (sisältää 2 aikuista ja 2 lasta)      \n 25€     +lisälapsi perhelippuun\nAluelippu (sis. Muumit ja alueen aktiviteetit)\n 15€     Aluelippu\n \nAdventure RaceFamily @ Roiske seikkailun voit maksaa verkkomaksulla\, pankki- ja luottokortilla tai tyky-maksuvälineillä (Edenred\, ePassi\, Smartum\, Eazybreak). Tyky -seteleillä maksaessasi\, huomioi\, että Tyky -maksuväline on henkilökohtainen. Tyky -seteleillä maksaessasi\, valitse maksutavaksi käteinen. \nElokuussa rapa lentää ja nauru raikaa.\nTulettehan Tekin!\nwww.adventurerace.fi
LOCATION:Ounaspaviljonki Kesätekemisen keskus ROISK\, Ounasjoen
 itäpuolentie 21\, 96900\, Rovaniemi\, Suomi
URL:http://ssl.eventilla.com/adventure_race_family
END:VEVENT
END:VCALENDAR
