BEGIN:VCALENDAR
METHOD:PUBLISH
VERSION:2.0
PRODID:-//Eventilla iCal Syndication//NONSGML Liana//EN
BEGIN:VEVENT
UID:Gw3kX@eventilla.com
DTSTAMP:20260622T060000Z
DTSTART:20260622T060000Z
DTEND:20260624T120000Z
SUMMARY:Liikunnallinen päiväleiri Maijamäki
DESCRIPTION:Liikunnallinen päiväleiri maanantaista keskiviikkoon 22.-24.6. päivittäin klo 9-15 Maijamäessä ja lähiympäristössä.\nLeiri on suunnattu vuonna 2018 ja ennen syntyneille. Päiväleiri alkaa päivittäin Maijamäestä (Venevalkamantie 2) ja paluu Maijamäkeen klo 15. Ohjelmassa säästä riippuen toimintaa sisällä ja ulkona; uintia\, akrobatiaa\, tanssia\, suunnistusta sekä erilaisia leikkejä ja pelejä. Hinta 30 €\, sisältää lounaan\, välipalan\, ohjauksen ja vakuutuksen. 
LOCATION:Maijamäki\, Venevalkamantie 2\, 21100\, Naantali\, Suomi
URL:http://ssl.eventilla.com/liikunnanleirikesa26
END:VEVENT
END:VCALENDAR
