BEGIN:VCALENDAR
METHOD:PUBLISH
VERSION:2.0
PRODID:-//Eventilla iCal Syndication//NONSGML Liana//EN
BEGIN:VEVENT
UID:GwJX6@eventilla.com
DTSTAMP:20260513T060000Z
DTSTART:20260513T060000Z
DTEND:20260513T090000Z
SUMMARY:Hakukonemainonta vuonna 2026 – Tuloksia\, ei turhia klikkejä
DESCRIPTION:Hakukonemainonta vuonna 2026 ja eteenpäin – Hakumainontaa\, joka tuottaa tuloksia\, ei turhia klikkejä\nGoogle Ads on usein tehokkain asiakashankintakanava\, kun se rakennetaan oikein. Tässä koulutuksessa käyn läpi\, miten rakennat kannattavan hakukonemainonnan alusta alkaen – hakusanoista ja rakenteista konversioseurantaan ja jatkuvaan optimointiin. Koulutus on suunnattu käytännön tekijöille\, jotka haluavat ymmärtää\, mihin eurot oikeasti menevät ja miten tuloksia parannetaan heti.\nRakenna hakumainonta\, joka tuottaa tulosta – ei pelkkiä klikkejä. Opit\, miten valitset oikeat hakusanat\, rakennat tehokkaan kampanjarakenteen ja optimoit mainonnan kannattavaksi heti käytännössä.\n__\nEtäkoulutus: Hakukonemainonta vuonna 2026\, PDF\nOhjelma 3 h. +/- 15 min.\nKoulutuksen sisältö:\n\n\nFiksu kampanjarakenne: kuinka rakennat kampanjarakenteen\, joka tukee tavoitteitasi\n\n\nHakusanojen hallinta: miten välttää turha liikenne ja keskittyä enemmän ostovalmiiseen yleisöön\n\n\nMainosviestit: kuinka muodostat mainostekstejä\, jotka erottuvat ja kääntävät liikenteen maksaviksi asiakkaiksi\n\n\nKonversioseuranta: mitä sinun kannattaa seurata\, jotta saat toivottuja tuloksia\n\n\nOptimointirutiini: miten mainontaa optimoidaan\, jotta saavutat jatkossakin enemmän kauppaa tai yhteydenottoja\n\n\n_\n 
LOCATION:Etäkoulutus\, Suomi
URL:http://ssl.eventilla.com/event/GwJX6
END:VEVENT
END:VCALENDAR
