BEGIN:VCALENDAR
METHOD:PUBLISH
VERSION:2.0
PRODID:-//Eventilla iCal Syndication//NONSGML Liana//EN
BEGIN:VEVENT
UID:JBkzb@eventilla.com
DTSTAMP:20240319T110000Z
DTSTART:20240319T110000Z
DTEND:20240319T140000Z
SUMMARY:Minna Canth -seminaari 19.3.2024
DESCRIPTION:KUTSU\ntiistai 19.3.2024 klo 13-16\, Kuopion Musiikkikeskus\n \nSEMINAARIN OHJELMA:\nKlo 13.00 Ilmoittautuminen ja kahvitarjoilu\nKlo 13.30 Seminaarin avaus\, Minna Canth \nSananvapaus vastuullisen yhteiskunnan rakentajanaSirpa Kähkönen\, kirjailija\nRakentava julkinen keskusteluLaura Arikka\, Erätauko-säätiö\nPaneelikeskustelutmoderaattorina Savon Sanomat\n\nPaneeli 1: Sananvapaus ja sen merkitys tieteessä\, taiteessa ja taloudessa. Vieraina: Sirpa Kähkönen\, Tapio Määttä (UEF)\, Laura Arikka (Erätauko-säätiö) ja Siamäk Naghian (Genelec)\nPaneeli 2: Sanomisen vapaus ja vastuu politiikassa. Vieraina: Seppo Kääriäinen (kesk.)\, Karoliina Partanen (kok.) ja Laura Meriluoto (vas.)\n\nTilaisuuden päätös\, Minna Canth\n \nSeminaari on maksuton\, mutta pyydämme ystävällisesti ilmoittautumaan 10.3. mennessä lunastamalla lipun alla olevasta lippuvalikosta.\n \nTervetuloa! \nMatti Pietiläinenvastaava päätoimittaja\, Savon Sanomat
LOCATION:Kuopion Musiikkikeskus\, Kuopionlahdenkatu 23\, 70100\, Kuopio
URL:http://ssl.eventilla.com/minnacanthseminaari
END:VEVENT
END:VCALENDAR
