BEGIN:VCALENDAR
METHOD:PUBLISH
VERSION:2.0
PRODID:-//Eventilla iCal Syndication//NONSGML Liana//EN
BEGIN:VEVENT
UID:JPwq5@eventilla.com
DTSTAMP:20260917T060000Z
DTSTART:20260917T060000Z
DTEND:20260917T130000Z
SUMMARY:Tunnetun toimittajan turvapäällikön koulutus
DESCRIPTION:Lentoasematarvikkeiden ja lennon aikana käytettävien tarvikkeiden turvapäällikön koulutusEU-asetuksen (2015/1998) mukaan yrityksen tulee nimetä jokaiselle toimipaikalle vähintään yksi henkilö\, joka vastaa turvavalvontatoimenpiteiden toteuttamisesta ja valvonnasta kyseisellä paikalla. Tämän henkilön tulee saada koulutus kyseiseen tehtävään. Turvapäällikön koulutus täyttää edellä mainitut vaatimukset.\nKaikilla koulutukseen osallistuvilla tulee olla perusmuotoinen turvallisuusselvitys tehtynä ennen koulutukseen ilmoittautumista. \nKoulutuksen tavoite:Perehdyttää osanottajat turvallisuusmääräyksiin\, jotka koskevat lentoasematarvik-keiden ja lennon aikana käytettävien tarvikkeiden turvapäällikön tehtävää. Koulutuk-sessa käsitellään lentoasematarvikkeiden ja lennon aikana käytettävien tarvikkeiden tunnetuille toimittajille asetetut vastuut ja velvoitteet. \nKohderyhmä:                                                                               Lentoasematarvikkeiden ja lennon aikana käytettävien tarvikkeiden tunnettujen toimittajien ja valvottujen toimittajien turvapäälliköt ja turvapäälliköiden sijaiset.\nKoulutuksen sisältö:1. Peruskoulutusosio\n\nAiemmat siviili-ilmailuun kohdistuneet laittomat teot\, terroriteot ja nykyiset uhat\nSiviili-ilmailun turvaamista koskeva lainsäädäntö\nIlmailun turvaamisen tavoitteiden ja organisaation tuntemus\, mukaan luettuina turvavalvontatoimenpiteitä toteuttavien henkilöiden velvollisuudet ja vastuut\nKulunvalvontamenettelyt\nHenkilökorttijärjestelmä lentoasemalla\nLuvatonta kulkua yrittävien henkilöiden pysäyttäminen ja siihen liittyvät toimenpiteet\nIlmoitusmenettelyt\nKielletyt esineet ja aineet\nPoikkeaviin tilanteisiin reagointi\nIhmisten käyttäytymisen ja reaktioiden vaikutus turvallisuuteen\nKommunikointi asiakaspalvelutilanteissa\n\n2. Erityiskoulutusosio\n\nTurvapäälliköitä koskevat lakisääteiset vaatimukset\nTurvapäällikön tehtävät (oikeudet ja velvollisuudet)\nSisäinen\, kansallinen\, yhteisön ja kansainvälinen laadunvalvonta (järjestelmät ja toimenpiteet)\nMotivointi\nKäytettävien turvalaitteiden tai turvatarkastusmenetelmien suorituskyvyn ja rajoitusten tuntemus\n
LOCATION:Presto Oy, Suomen Turvaprojektit\, Rajavoudinkuja 5\, 01740\,
 Vantaa\, Suomi
URL:http://ssl.eventilla.com/event/JPwq5
END:VEVENT
END:VCALENDAR
