BEGIN:VCALENDAR
METHOD:PUBLISH
VERSION:2.0
PRODID:-//Eventilla iCal Syndication//NONSGML Liana//EN
BEGIN:VEVENT
UID:JwJ8W@eventilla.com
DTSTAMP:20260520T050000Z
DTSTART:20260520T050000Z
DTEND:20260520T100000Z
SUMMARY:Nostoapuvälineiden turvallinen käyttö ja tarkastaminen
DESCRIPTION:Koulutuksessa käydään läpi nostoapuvälineet ja niiden käyttö. Nostoapuvälineille pitää suorittaa säädösten määräämiä tarkastuksia\, joten koulutuksessa käydään läpi mm. tarkastajan vastuita.\nLisäksi koulutuksessa käydään läpi mm. tarkastajan velvollisuudet\, nostoapuvälineiden tarkastaminen sekä hylkäysperusteet. Koulutus sisältää myös käytännön harjoittelun.
LOCATION:Ramirent Suutarila\, Tapulikaupungintie 37\, 00750\, Helsinki
URL:http://ssl.eventilla.com/event/JwJ8W
END:VEVENT
END:VCALENDAR
