BEGIN:VCALENDAR
METHOD:PUBLISH
VERSION:2.0
PRODID:-//Eventilla iCal Syndication//NONSGML Liana//EN
BEGIN:VEVENT
UID:JwNvb@eventilla.com
DTSTAMP:20260612T153000Z
DTSTART:20260612T153000Z
DTEND:20260612T190000Z
SUMMARY:Helsinki Trail Run 2026
DESCRIPTION:Helsinki Trail Run 2026 juostaan 12.6.2026.\nIlmoittautuminen on nyt auki!\nLue lisää tapahtuman nettisivuilta.\nMaksutapoina on yleisimmät suomalaiset verkkopankit ja luottokortit sekä liikuntaedut.\nMikäli valitset maksutavaksi liikuntaedut\, katsothan maksuohjeet tapahtuman nettisivuilta.\nLiikuntaedut ovat henkilökohtaisia\, joten niillä voit maksaa vain oman ilmoittautumisesi.
LOCATION:Pirkkolan Metsätie 6\, Helsinki
URL:http://ssl.eventilla.com/helsinki-trail-run-2026
END:VEVENT
END:VCALENDAR
