BEGIN:VCALENDAR
METHOD:PUBLISH
VERSION:2.0
PRODID:-//Eventilla iCal Syndication//NONSGML Liana//EN
BEGIN:VEVENT
UID:JwXXW@eventilla.com
DTSTAMP:20260507T140000Z
DTSTART:20260507T140000Z
DTEND:20260507T163000Z
SUMMARY:Vatsastaan kipeän naudan lääkintä\, tukihoito ja ruokinta
DESCRIPTION:Lisätiedot\nKoulutussuunnittelija Outi Hälli\, outi.halli@fennovet.fi\, 0504005710.
LOCATION:Webinaari
URL:http://ssl.eventilla.com/event/JwXXW
END:VEVENT
END:VCALENDAR
