BEGIN:VCALENDAR
METHOD:PUBLISH
VERSION:2.0
PRODID:-//Eventilla iCal Syndication//NONSGML Liana//EN
BEGIN:VEVENT
UID:KBoJo@eventilla.com
DTSTAMP:20261027T063000Z
DTSTART:20261027T063000Z
DTEND:20261028T140000Z
SUMMARY:Nestekaasun käytönvalvojan koulutus
DESCRIPTION:Nestekaasun käytönvalvojan koulutus\nKemikaali- ja nestekaasuturvallisuutta koskeva lainsäädäntö määrää\, että jos nestekaasun määrä laitoksessa on vähintään 5 tonnia\, tulee toiminnanharjoittajan nimetä käytönvalvoja.  Käytönvalvojan tehtävänä on huolehtia laitoksen turvallisesta ja säädösten mukaisesta toiminnasta.\nKäytönvalvojalta edellytetään Turvallisuus- ja kemikaaliviraston (Tukes) järjestämän pätevyyskokeen suorittamista\, johon tämä kurssi valmentaa. Tenttivalmiuksien lisäksi koulutus antaa myös runsaasti käytännönläheistä tietoa turvallisesta nestekaasutoiminnasta kokonaisuudessaan.
LOCATION:Skyline Airport Hotel\, Elannontie 9\, 01510\, Vantaa\, Suomi
URL:http://ssl.eventilla.com/event/KBoJo
END:VEVENT
END:VCALENDAR
