BEGIN:VCALENDAR
METHOD:PUBLISH
VERSION:2.0
PRODID:-//Eventilla iCal Syndication//NONSGML Liana//EN
BEGIN:VEVENT
UID:Ko4Bv@eventilla.com
DTSTAMP:20250425T050000Z
DTSTART:20250425T050000Z
DTEND:20250425T130000Z
SUMMARY:Sähkötyöturvallisuuskoulutus SFS 6002 SÄTKY - Webinaari
DESCRIPTION:Sähkötyöturvallisuuskoulutus SFS 6002 SÄTKY pohjautuu sähkötyöturvallisuusstandardiin SFS 6002\, joka edellyttää kaikilta sähköalan töitä tekeviltä oman työympäristön tuntemisen ja tehtävien osalta turvalliset toimintatavat. Tämä koulutus varmistaa\, että turvalliset toimintatavat tunnetaan\, ja että niitä osataan hyödyntää työssä. Sähkötyöturvallisuuskoulutus täyttää työnantajalle kuuluvan työturvallisuuslain (738/2002) 14 §:n mukaisen koulutusvelvoitteen.\nSFS 6002 SÄTKY-koulutus on suunnattu sähköverkkojen parissa työskenteleville henkilöille. Koulutus soveltuu myös työnjohto-\, käyttö- ja asiantuntijatehtävissä toimiville.\nKyseessä on etäkoulutus. Koulutus tapahtuu Microsoft Teams-sovelluksella. Voit osallistua koulutukseen selaimen kautta joko tietokoneella tai mobiililaitteella. Sovellusta ei tarvitse ladata koneelle tai mobiililaitteelle erikseen. Mikäli haluat ladata Teams-sovelluksen\, löydät sen omasta sovelluskaupasta. Tarkemmat ohjeet lähetetään vahvistusviestissä. 
LOCATION:Webinaari
URL:http://ssl.eventilla.com/event/Ko4Bv
END:VEVENT
END:VCALENDAR
