BEGIN:VCALENDAR
METHOD:PUBLISH
VERSION:2.0
PRODID:-//Eventilla iCal Syndication//NONSGML Liana//EN
BEGIN:VEVENT
UID:KoBy5@eventilla.com
DTSTAMP:20241202T133000Z
DTSTART:20241202T133000Z
DTEND:20241202T150000Z
SUMMARY:Winter Camp for Children: "Adam and His Greedy Neighbor"
DESCRIPTION:Join author Haifa Babiker for a discussion of the story Adam and His Greedy Neighbor\, where children will explore the story's theme and draw scenes from it. This event is part of the Winter Camp for Children that is hosted by the Library.\nDate: 2 December 2024\nTime: 4:30 - 6:00 PM\nLanguage: Arabic\nTarget Audience: Children\nSeats are limited\, please click the button below to register.\n 
LOCATION:Children’s library\, Qatar National Library\, Doha\, Qatar
URL:http://events.qnl.qa/event/KoBy5
END:VEVENT
END:VCALENDAR
