BEGIN:VCALENDAR
METHOD:PUBLISH
VERSION:2.0
PRODID:-//Eventilla iCal Syndication//NONSGML Liana//EN
BEGIN:VEVENT
UID:LPDO3@eventilla.com
DTSTAMP:20250323T143000Z
DTSTART:20250323T143000Z
DTEND:20250323T163000Z
SUMMARY:Kauas kantavaa kasvua - musiikkialan kunta- ja aluevaalipaneeli
DESCRIPTION:Tervetuloa musiikkialan elämykselliseen kunta- ja aluevaalipäivään! Samana päivänä Musiikkitalossa vietetään muskaripäivää ja soitinpolkua\, joten talo on täynnä musiikillista säpinää ja perheitä.\nTerassilämpiössä klo 14.30 alkavassa puoluejohdon paneelissa etsitään ratkaisuja\, miten musiikkiala voi kunnissa toimia monin eri tavoin elinvoiman lähteenä. Tilaisuutta voi seurata suorana lähetyksenä myös Yle Areenasta!\nMiten lasten ja nuorten harrastusmahdollisuudet ja musiikin koulutus rakentavat tulevaisuutta?  Kuinka musiikin käyttö kohentaa hyvinvointia? Miten tuoda musiikki osaksi kunnan palveluita? Entä kuinka elävä musiikki ja tapahtumat luovat yrittäjyyttä\, työpaikkoja ja elinvoimaa? Ja ennen kaikkea: miten tästä luodaan voittava yhtälö?\nPaneelissa mukana isompien eduskuntapuolueiden johtajat\, joista tällä hetkellä mukaan ovat ilmoittautuneet:\n\nAnders Adlercreutz\, opetusministeri\, puolueen puheenjohtaja (rkp)\nAtte Harjanne\, kansanedustaja\, eduskuntaryhmän puheenjohtaja (vihr.)\nVeronika Honkasalo\, kansanedustaja\, puolueen varapuheenjohtaja (vas.)\nHilkka Kemppi\, kansanedustaja\, puolueen varapuheenjohtaja (kesk.)\nNasima Razmyar\, kansanedustaja\, puolueen varapuheenjohtaja (sdp)\nMari-Leena Talvitie\, tiede- ja kulttuuriministeri (kok)\n\nPaneelin juontaa toimittaja\, mediavaikuttaja Maria Veitola. Tutustu myös Musiikkitalon soitinpolku -tapahtuman ohjelmaan. \nTilaisuuden järjestävät yhteistyössä Musiikkiala.fi:n toimijat: Gramex\, IndieCo\,  LiveFIN\, Managers Forum Finland\, Music Finland\, Musiikin edistämissäätiö\, Musiikkituottajat IFPI\, Muusikoiden liitto\, Sulasol\, Suomen Jazzliitto\, Suomen konservatorioliitto\, Suomen musiikinopettajien liitto\, Suomen Musiikintekijät\, Suomen Musiikkikustantajat\, Suomen Musiikkineuvosto\, Suomen musiikkioppilaitosten liitto\, Suomen ohjelmatoimistot ja agentit\, Suomen Sinfoniaorkesterit\, Suomen Säveltäjät\, Taideyliopiston Sibelius-Akatemia ja Teosto.\n 
LOCATION:Musiikkitalon terassilämpiö\, Mannerheimintie 13 A\, 00100\,
 Helsinki\, Finland
URL:http://ssl.eventilla.com/musiikkiala-vaalitapahtuma
END:VEVENT
END:VCALENDAR
