BEGIN:VCALENDAR
METHOD:PUBLISH
VERSION:2.0
PRODID:-//Eventilla iCal Syndication//NONSGML Liana//EN
BEGIN:VEVENT
UID:LPJlB@eventilla.com
DTSTAMP:20260610T050000Z
DTSTART:20260610T050000Z
DTEND:20260610T130000Z
SUMMARY:Nostotyön suunnittelijan ja valvojan koulutus
DESCRIPTION:Koulutuksen tavoitteena on antaa noston valvojalle ja suunnittelijalle opastusta ja ohjeita sekä antaa osallistujille valmiudet täyttää nostotöihin liittyvät työnantajavelvoitteet\, sekä taidot varmistaa nostotyön turvallinen suorittaminen. Koulutuksen tavoitteena on antaa perustiedot työnantajan vastuista toimittaessa nostotyön johtajana\, valvojana\, tai suunnittelijana.\nKoulutus perustuu soveltuvin osin standardiin ISO 23813 sisältäen eri osapuolia säädösten mukaan koskevien vastuiden ja velvollisuuksien läpikäynnin\, nosturien tyypit ja rakenteet\, nostotöihin liittyvät vaarat\, sekä nostotyön suunnittelussa ennakoitavat asiat. Lisäksi koulutuksessa harjoitellaan nostotyön suunnittelua ja kirjallisen nostotyösuunnitelman tekoa käytännön harjoitusten kautta.
LOCATION:Ramirent Suutarila\, Tapulikaupungintie 37\, 00750\, Helsinki
URL:http://ssl.eventilla.com/event/LPJlB
END:VEVENT
END:VCALENDAR
