BEGIN:VCALENDAR
METHOD:PUBLISH
VERSION:2.0
PRODID:-//Eventilla iCal Syndication//NONSGML Liana//EN
BEGIN:VEVENT
UID:LPWKa@eventilla.com
DTSTAMP:20260314T063000Z
DTSTART:20260314T063000Z
DTEND:20260314T140000Z
SUMMARY:Hätäensiapukurssi 8h
DESCRIPTION: \n 
LOCATION:Inarin kunta / Inarin koulu\, Saarikoskentie 4\, 99870\, Inari
URL:http://ssl.eventilla.com/event/LPWKa
END:VEVENT
END:VCALENDAR
