BEGIN:VCALENDAR
METHOD:PUBLISH
VERSION:2.0
PRODID:-//Eventilla iCal Syndication//NONSGML Liana//EN
BEGIN:VEVENT
UID:LPb9B@eventilla.com
DTSTAMP:20251209T060000Z
DTSTART:20251209T060000Z
DTEND:20251209T070000Z
SUMMARY:Markkinointipähkinät yhdessä purtavaksi
DESCRIPTION:Brändipavut ja markkinointimurhat\nAamun paras hetki on\, kun saa hetken hengähtää hyvän kahvin ja ajatuksia herättävän keskustelun äärellä. Brändipavut & markkinointimurhat on rento aamukahvitilaisuus sinulle markkinointityyppi\, joka pyörität yrityksen markkinointia yksin tai kaksin -  ilman isoa tiimiä\, mutta täynnä ideoita ja tekemisen paloa. Näillä aamukahveilla ei pönötetä puheenvuoroja kuunnellen vaan jutellaan rennosti ja vaihdetaan uusia ideoita\, jotka voivat tehdä arjesta vähän helpompaa ja hauskempaa. \n☕ Mitä luvassa?\n\n\nPohdintaa ja puheen sorinaa aamun teemasta Vuoden opit & flopit\n\n\nVapaamuotoista verkostoitumista ja vertaistukea\n\n\nHyvää kahvia ja pientä purtavaa\n\n\n📍 Missä ja milloin?Tiistaina 9.12. kello 8.00 alkaenKuuki - Crazy TownAleksanterinkatu 16\, Lahti\nPaikkoja on rajallisesti\, joten nappaa omasi pian!Tämä tilaisuus on maksuton ja kokoonnumme aina joka kuukauden toinen tiistai - be there.
LOCATION:Kuuki - Crazy town\, Aleksanterinkatu 16\, 15110\, Lahti\, Suomi
URL:http://ssl.eventilla.com/brandipavut_markkinointimurhat-vuodenopitjaflopit
END:VEVENT
END:VCALENDAR
