BEGIN:VCALENDAR
METHOD:PUBLISH
VERSION:2.0
PRODID:-//Eventilla iCal Syndication//NONSGML Liana//EN
BEGIN:VEVENT
UID:LPvDg@eventilla.com
DTSTAMP:20260601T080000Z
DTSTART:20260601T080000Z
DTEND:20260603T123000Z
SUMMARY:Maisemia posliinille – posliinimaalauskurssi
LOCATION:STEP-koulutus\, Järvenpääntie 640\, 04400\, Järvenpää
URL:http://ssl.eventilla.com/event/LPvDg
END:VEVENT
END:VCALENDAR
