BEGIN:VCALENDAR
METHOD:PUBLISH
VERSION:2.0
PRODID:-//Eventilla iCal Syndication//NONSGML Liana//EN
BEGIN:VEVENT
UID:LPzA3@eventilla.com
DTSTAMP:20241204T073000Z
DTSTART:20241204T073000Z
DTEND:20241204T103000Z
SUMMARY:Tavoitteet todeksi: keinoja asiakkaan motivaation herättämiseen ja vahvistamiseen - koulutus- ja verkostotilaisuus Etelä-Suomen liikuntaneuvojille
DESCRIPTION:Maksuton koulutus- ja verkostotilaisuus on suunnattu eteläsuomalaisissa kunnissa ja hyvinvointialueilla toimiville liikuntaneuvonnan ammattilaisille.\n4.12.2024\nSijainti: Ratapihankatu 9\, Pasila (Kokoushuone Kirsikka) klo 9.30-12.30\nEtäyhteydet (Teams) klo 10-11.30 \nTilaisuuden tavoitteena on lisätä osallistujien ymmärrystä muutosten tekemisestä ja antaa keinoja muutosten tukemiseen asiakkaan omaa motivaatiota tukemalla. Lisäksi se tarjoaa mahdollisuuden verkostoitua\, jakaa ajatuksia sekä oppia toisilta.\nAamupäivän aikataulu\nklo 9.30 Tilaisuus alkaa Pasilassa kuntakuulumisilla ja liikuntaneuvonnan ajankohtaiskatsauksella aamukahvien äärellä\nklo 10-11.30 Koulutusosio\nKoulutusosiossa sosiaalipsykologi\, työnohjaaja ja kouluttajapsykoterapeutti Leena Ehrling esittelee näkökulmia ja keinoja\, joiden avulla voi herätellä\, tutkia ja vahvistaa asiakkaan motivaatiota\, jota tarvitaan elämäntapamuutosten tekemiseen ja niihin sitoutumiseen. Osiossa käydään läpi motivoivan haastattelun keskeiset ideat ja tekniikat sekä tutkitaan sisäisen ja ulkoisen motivaation eroja ja hyödyntämistapoja. Lisäksi tunnistetaan vuorovaikutuksen sudenkuoppia\, joihin työntekijät usein astuvat pyrkiessään vahvistamaan asiakkaan motivaatiota. Tilaisuuden tavoitteena on lisätä osallistujien ymmärrystä muutosten tekemisestä ja antaa keinoja muutosten tukemiseen asiakkaan omaa motivaatiota tukemalla.\nklo 12.00 Tilaisuuden päätös\, jonka jälkeen halukkaille mahdollisuus omakustanteiseen lounaaseen hyvässä seurassa ravintola Vaunussa\, joka sijaitsee heti kokoustilan vieressä.\nTilaisuuden järjestää Etelä-Suomen aluehallintovirasto yhteistyössä Etelä-Suomen Liikunta ja Urheilu ry:n kanssa ja sitä fasilitoivat Anni Kettunen ja Merja Palkama.\nTeams -linkki lähetetään etälähetykseen ilmoittautuneille tiistaina 3.12.  \nLisätietoja:\nTerveysliikunnan kehittäjä\, Merja Palkama\, 044 9019 289\, merja.palkama@eslu.fi\nYlitarkastaja\, Anni Kettunen\, 050 4776 358\, anni.kettunen@avi.fi 
LOCATION:Kokoustila Kirsikka\, Ratapihantie 9\, 00520\, Helsinki
URL:http://eventilla.avi.fi/event/LPzA3
END:VEVENT
END:VCALENDAR
