BEGIN:VCALENDAR
METHOD:PUBLISH
VERSION:2.0
PRODID:-//Eventilla iCal Syndication//NONSGML Liana//EN
BEGIN:VEVENT
UID:LyD0d@eventilla.com
DTSTAMP:20221009T150000Z
DTSTART:20221009T150000Z
DTEND:20260131T215900Z
SUMMARY:Hihnakäytöksen ABC -luentotallenne
DESCRIPTION:Hihnakäytöksen ABC -luentotallenne\nKesto noin 1h 53min\, hinta 22€\n \nMistä taidoista hyvä hihnakäytös koostuu? Miten näitä taitoja voidaan harjoitella? Onko hihnakäytös kiinni varusteista? Millaisia varusteita ja vermeitä koiralla kannattaa käyttää lenkillä? Onko vika aina hihnan toisessa päässä\, jos koira ei millään opi olemaan vetämättä ja rähjäämättä?\nLuennoitsijana toimii koirakoulu Masseterin perustaja\, erikoisammattitutkinnon suorittanut eläintenkouluttaja Liisa Tikka.\nLuentotallenne on ostajan käytössä kuukauden ajan.
LOCATION:Koirakoulu Masseter
URL:http://ssl.eventilla.com/hihnatallenne
END:VEVENT
END:VCALENDAR
