BEGIN:VCALENDAR
METHOD:PUBLISH
VERSION:2.0
PRODID:-//Eventilla iCal Syndication//NONSGML Liana//EN
BEGIN:VEVENT
UID:Lyywd@eventilla.com
DTSTAMP:20220217T080000Z
DTSTART:20220217T080000Z
DTEND:20220217T090000Z
SUMMARY:TieraCafé webinaari 17.2. klo 10-11: Tiera Elli - etäpalvelun ominaisuudet ja käyttökohteet
DESCRIPTION:Tervetuloa Tiera Elli etäpalvelut -webinaariin!\n \nWebinaarissa 17.2. klo 10-11 keskitymme etäpalveluiden etäyhteyteen\, ajanvaraukseen perustuvaan videopuheluyhteyteen sekä chat-palveluun.\nTiera Ellin palvelualusta on kehitetty modulaariseksi ratkaisuksi\, jolloin eri moduuleja voidaan aktivoida käyttöön ammattilaiselle tarpeenmukaisesti. Asiakasryhmille on tarjolla erityyppisiä palvelukanavia ja käyttöliittymiä riippuen asiakasryhmän palvelutarpeesta.\n \nEtäpalvelualustan ominaisuudet ja käyttökohteet voidaan jakaa:\n\n\nEtäyhteys\n\n\nEtäasiointi/Videovastaanotto ajanvarauksella -Chat-palvelut -Etäkonsultaatio\n\n\nEtähoiva\n\n\nHyvinvointi- ja turvaranneke\n\n\nEtädiagnostiikka\n\n\n \nTervetuloa tilaisuuteen tutustumaan tarkemmin Tiera Ellin ominaisuuksiin!\n \nWebinaari järjestetään Teams-kokouksena ja osallistumislinkki lähetetään ilmoittautuneille päivää ennen tilaisuutta sähköpostilla.
LOCATION:
URL:http://ssl.eventilla.com/tiera-elli-etapalvelun-ominaisuudet-ja-kayttokohteet
END:VEVENT
END:VCALENDAR
