BEGIN:VCALENDAR
METHOD:PUBLISH
VERSION:2.0
PRODID:-//Eventilla iCal Syndication//NONSGML Liana//EN
BEGIN:VEVENT
UID:M0O7v@eventilla.com
DTSTAMP:20240523T140000Z
DTSTART:20240523T140000Z
DTEND:20240523T153000Z
SUMMARY:Tsar's Helsinki Walking Tour
DESCRIPTION:Welcome to the Tsar´s Helsinki Walking Tour!\nThe tour starts: Helsinki City Museum\, Info Desk (Aleksanterinkatu 16)\nThe tour ends: House of Estates (Snellmaninkatu 9-11)\nDuration: max. 75 min.\nPrice: 11 €\nThe Tsar´s Helsinki Walking Tour dives into the first hundred years of building Helsinki into the capital of Finland and its central monuments. The heart of the capital of autonomous Finland developed around the Senate Square. Influences were searched for from Saint Petersburg and Berlin’s Neoclassicism in which symmetry\, column systems and other architectural methods inherited from the Classical Period and the Renaissance played a significant part. In the late 19th century\, a smaller square of public buildings formed by the Bank of Finland\, the House of the Estates and the National Archives of Finland was created adjacent to the Senate Square. It also reflected the ideals of the Renaissance but with a more patriotic nature. The walking tour starts from the Helsinki City Museum\, Aleksanterinkatu 16\, and ends in the park of the House of Estates.\nNo age limit\, but recommended for children over the age of 10\nThe tour is in English.\nBuy tickets in advance.\nOur walks are popular. Therefore we recommend buying tickets in advance. Tickets will also be sold on site at the City Museum. We can’t offer any exchanges or refunds unless an event has been cancelled. \n 
LOCATION:Helsinki City Museum\, Aleksanterinkatu 16\, 00170\, Helsinki\,
 Finland
URL:http://ssl.eventilla.com/event/M0O7v
END:VEVENT
END:VCALENDAR
