BEGIN:VCALENDAR
METHOD:PUBLISH
VERSION:2.0
PRODID:-//Eventilla iCal Syndication//NONSGML Liana//EN
BEGIN:VEVENT
UID:MKDYB@eventilla.com
DTSTAMP:20260528T060000Z
DTSTART:20260528T060000Z
DTEND:20260528T130000Z
SUMMARY:Julkisten hankintojen hankintasopimukset
DESCRIPTION:Kuvaus\nHyvin laadittu hankintasopimus on julkisissa hankinnoissakin toimivan yhteistyön ydin. Hankintasopimuksen merkitys jää usein kilpailutusvaiheessa helposti vähälle huomiolle\, vaikka juuri hankintasopimus määrittelee koko myöhemmän yhteistyön. Koulutuksessa käydään läpi sopimusehtojen huomioiminen tarjouspyyntövaiheessa ja yleisten sopimusehtojen käyttäminen sopimuksen laatimisen apuna. Koulutus on suunnattu hankintayksiköiden edustajille ja julkisiin hankintoihin osallistuville tarjoajille.\nPäivän aikana käydään läpi hyvän julkisten hankintojen hankintasopimuksen peruskivet sekä keskeisimmät sopimusehdot tavara- ja palvelusopimuksissa\, sekä se miten ne kannattaa huomioida sopimuksen laatimisessa.\nHyvälläkään hankintasopimuksella ei tee mitään\, jos sopijapuolet eivät sitä noudata. Päivän aikana käsitellään hankintasopimuksen seurantaa ja valvomista ja sitä\, onko sopimusta mahdollista muuttaa sopimuskaudella. Voiko ongelmatilanteisiin varautua ennalta ja miten sopimusreklamaatiot kannattaa tehdä?\nOsallistujat saavat käyttöönsä JYSE -ehtoihin pohjautuvat tavara- ja palveluhankintojen sopimusmallit. Otetaan yhdessä julkisten hankintojen hankintasopimukset haltuun –\ntervetuloa!\nKohderyhmä: Hankintayksiköiden edustajat\, julkisiin hankintoihin osallistuvat tarjoajat.__Lähikoulutus: Julkisten hankintojen hankintasopimukset\, PDF\nEtäkoulutus: Julkisten hankintojen hankintasopimukset\, PDF\nOhjelma klo 9.00–16.00\nTilaisuuden avaus ja tavoitteet\nJulkishallinnon käyttämät sopimusehdot\n\nKäydään läpi julkisissa hankinnoissa useimmiten käytetyt sopimusehdot\n\nKeskeiset sopimusehdot käytännössä\n\nSopimuksen kohteen määrittely\nPalveluita koskevat erityispiirteet\nSopimuskauden pituus ja mahdolliset optiokaudet\nPalvelun tuottamiseen osallistuva henkilöstö\nYhteistyömalli sopimuskaudella\nEsimerkki\nLaatutason määritteleminen\, miksi se on niin vaikeaa vai onko?\nBonukset ja sanktiot\, esimerkkejä sopimussakoista ja bonus- sanktiomalleista\nHintaan liittyvät sopimusehdot\nHinnantarkistusehdot\nAlihankinta\n\nSopimuksen seuranta ja raportointi\n\nMiten ja miksi sopimusta kannattaa seurata?\nLaadun valvonta ja tarkastusoikeus\nRaportointi tukemaan laadun valvontaa\n\nImmateriaalioikeudet\n\nTekijänoikeus\, käyttöoikeus\nMitä oikeuksia tilaaja yleensä tarvitsee ja mihin?\n\nSalassapitoon\, turvallisuuteen ja henkilötietojen käsittelyyn liittyvät ehdot\n\nMilloin henkilötietojen käsittely tulee huomioida sopimuksessa?\nSalassapitoa koskevat ehdot\n\nSopimusrikkomukset ja niiden seuraamukset\n\nViivästyminen\nVirhe\nMiten sopimusreklamaatiot kannattaa tehdä?\nSopimusrikkomusten seuraamukset\nVahingonkorvaus\nSopimussakko\nSopimuksen purkaminen\n\nSopimuksen päättäminen\n\nTyypilliset sopimuksen päättämistä koskevat ehdot\nSopimuksen päättäminen erityistilanteissa\n\nAvustamisvelvollisuus sopimuksen päättyessä\n\nMiten varmistat palvelutuotannon seuraavan kilpailutuksen päättymiseen saakka\nToimittajalta saatava kilpailutuksen edellyttämä dokumentaatio\n\nEnnen sopimuksen allekirjoittamista\n\nSopimuksen koostaminen tarjouspyyntödokumentaatiosta\nTarkastettavat asiakirjat\nPalvelun aloituskokous\n\nSopimusmuutokset\n\nVoiko hankintasopimuksesta vetäytyä tai voiko sopimusta muuttaa?\nSopimuksen irtisanominen ja purkaminen\nMiten varaudun muutoksiin sopimuskauden aikana?\n\nTilaisuuden yhteenveto ja päättäminen\n__\n 
LOCATION:Etäkoulutus tai Original Sokos Hotel Presidentti, Helsinki\,
 Eteläinen Rautatiekatu 4\, 00100\, Helsinki\, Suomi
URL:http://ssl.eventilla.com/event/MKDYB
END:VEVENT
END:VCALENDAR
