BEGIN:VCALENDAR
METHOD:PUBLISH
VERSION:2.0
PRODID:-//Eventilla iCal Syndication//NONSGML Liana//EN
BEGIN:VEVENT
UID:MKZ4Z@eventilla.com
DTSTAMP:20260508T090000Z
DTSTART:20260508T090000Z
DTEND:20260508T140000Z
SUMMARY:Fennovet 30-vuotta\, juhlaseminaari
DESCRIPTION:Tervetuloa juhlistamaan Fennovetin 30-vuotista taivalta.\n
LOCATION:Yellow Corner Studio\, Lemuntie 3-5\, 00510\, Helsinki
URL:http://ssl.eventilla.com/event/MKZ4Z
END:VEVENT
END:VCALENDAR
