BEGIN:VCALENDAR
METHOD:PUBLISH
VERSION:2.0
PRODID:-//Eventilla iCal Syndication//NONSGML Liana//EN
BEGIN:VEVENT
UID:MKblP@eventilla.com
DTSTAMP:20260602T060000Z
DTSTART:20260602T060000Z
DTEND:20260604T110000Z
SUMMARY:Kesäkepparit 7–9-vuotiaille
LOCATION:STEP-koulutus, Ruokolahti\, Opistontie 21\, 56100\, Ruokolahti\,
 Suomi
URL:http://ssl.eventilla.com/event/MKblP
END:VEVENT
END:VCALENDAR
