BEGIN:VCALENDAR
METHOD:PUBLISH
VERSION:2.0
PRODID:-//Eventilla iCal Syndication//NONSGML Liana//EN
BEGIN:VEVENT
UID:N46wA@eventilla.com
DTSTAMP:20221001T060000Z
DTSTART:20221001T060000Z
DTEND:20221231T153000Z
SUMMARY:Talviuinti saunasta syksy 2022
DESCRIPTION:TALVIUINTI SAUNANVUOROILLA SYKSY 2022\nTällä lomakkeella voi ilmoittautu talviuntiin Helsingin Ladun ja Polun talviuntipaikalle Rastilaan. Tutustuthan ennen ilmoittautumista Rastilan talviunti ohjeisiin.\nSyyskauden saunavuorot alkavat la 1.10.2022 ja päättyvät la 31.12.2022. Pyhäpäivinä vuoroissa voi olla muutoksia. Muutoksista tiedotetaan erikseen. Olemme varanneet Rastila Campingiltä vuorot:"Vanha sauna" eli lähempänä rantaa oleva saunatiistai                    15.00-19.30 sekavuorokeskiviikko            15.00-19.30 sekavuoro torstai                  15.00-19.30 sekavuorolauantai                09.00-13.00 sekavuorosunnuntai             12.30-17.30 sekavuoro  Uusi saunati                          17.00-19.30 sekavuoroto                         17.00-19.30 sekavuorosu                         15.00-17.30 sekavuoro\nSyksyn kausimaksu on 160 euroa.\nMuistathan\, että talviuinti edellyttää Helsingin Latu ja Polku ry:n jäsenyyttä\, liittyä voit: Liity jäseneksi. Mikäli sinulla on epäselvyyttä\, oletko jäsen\, laitatko sähköpostin osoitteeseen toimisto@helsinginlatu.fi\nMikäli paikat ovat täynnä\, voit ilmoittautua jonoon. Jonossa oleville henkilöille ilmoitetaan (ilmoittautumisjärjestyksessä)\, mikäli paikkoja talviuintiin vapautuu.\nIlmoittautuminen uusille uimareille aukeaa ke 14.9. klo 10.
LOCATION:Rastilan talviuintipaikka\, Karavaanikatu 4\, 00980\, Helsinki\,
 Suomi
URL:http://ssl.eventilla.com/event/N46wA
END:VEVENT
END:VCALENDAR
