BEGIN:VCALENDAR
METHOD:PUBLISH
VERSION:2.0
PRODID:-//Eventilla iCal Syndication//NONSGML Liana//EN
BEGIN:VEVENT
UID:N4Y3A@eventilla.com
DTSTAMP:20240606T140000Z
DTSTART:20240606T140000Z
DTEND:20240606T144500Z
SUMMARY:Facejooga 6.6.2024
DESCRIPTION:Tervetuloa suosittuun Facejoogan torstaina 6.6.2024 klo 17!\nKasvojooga venyttää kasvojen ja kaulan lihaksia\, mikä vahvistaa ja muotoilee niitä. Kun lihakset ihon alla vahvistuvat\, pinta näyttää sileämmältä. Treeni vilkastaa myös verenkiertoa ja aineenvaihduntaa sekä polttaa rasvaa. Kasvojooga tekee ihosta terveen ja hehkuvan näköisen. Se voi myös auttaa hyväksymään itsensä ja ulkonäkönsä paremmin. \nIlmoittautuminen on heti auki vain Hukan varsinaisille jäsenille ja 31.5. lähtien myös ei-jäsenellä on mahdollisuus ostaa lippu tapahtumaan hintaan 10 €. Lippu sisältää päiväjäsenyyden Hukkaan\, joten halutessasi voit myös testata muut Hukan palvelut ennen ja/tai jälkeen joogan.\nLämpimästi tervetuloa nauttimaan ja ottamaan hetki vain itsellesi!\nTapahtuman tiedot:\nAjankohta: Torstaina 6.6.2024 klo 17–17.45Kenelle: Liikuntakeskus Hukan jäsenille ja ei-jäsenille. Hinta ei-jäsenelle on 10 € (sisältää päiväjäsenyyden)Tunnin taso: Kaikille sopivaOhjaaja: Tiia Törrö
LOCATION:Liikuntakeskus Hukka\, Isokatu 99\, 90120\, Oulu
URL:http://ssl.eventilla.com/event/N4Y3A
END:VEVENT
END:VCALENDAR
