BEGIN:VCALENDAR
METHOD:PUBLISH
VERSION:2.0
PRODID:-//Eventilla iCal Syndication//NONSGML Liana//EN
BEGIN:VEVENT
UID:N4vkB@eventilla.com
DTSTAMP:20240418T100000Z
DTSTART:20240418T100000Z
DTEND:20240418T120000Z
SUMMARY:Keuhkosyöpäkoulutus hoitotyön ammattilaisille
DESCRIPTION:Ohjelma\n13-13:05 Tervehdyssanat\, Heli Granlund\, hankevastaava\, Filha ry\n13:05-13:30 Keuhko-oireinen potilas ja keuhkosyöpäepäily\, Miia Aro\, LT\, keuhkosairauksien erikoislääkäri\, asiantuntijaylilääkäri\, Filha ry\n13:30-14:00 Keuhkosyövän levinneisyys ja sen vaikutus hoitoon\, Antti Saarinen\, LT\, keuhkosairauksien erikoislääkäri\, asiantuntijaylilääkäri\, Filha ry\n14-14:10 Ohjelman tukijan puheenvuoro\n14:10-14:15 Videokirjasto\, Krista Abdulla Hama Salih\, hankevastaava\, Filha ry\n14:15-14:50 Miten tuen keuhkosyöpäpotilasta hoitojen aikana ja sen jälkeen? Maria Silvoniemi\, LT\, keuhkosairauksien erikoislääkäri\, palliatiivisen lääketieteen erityispätevyys\, TYKS\n14:50-14:55 Kysymykset\n14:55–15 Loppusanat\n 
LOCATION:Webinaari
URL:http://ssl.eventilla.com/event/N4vkB
END:VEVENT
END:VCALENDAR
