BEGIN:VCALENDAR
METHOD:PUBLISH
VERSION:2.0
PRODID:-//Eventilla iCal Syndication//NONSGML Liana//EN
BEGIN:VEVENT
UID:NPEKp@eventilla.com
DTSTAMP:20250411T150000Z
DTSTART:20250411T150000Z
DTEND:20250411T180000Z
SUMMARY:Ilta kartanossa
DESCRIPTION:Hakasalmen huvilan Kimallus ja kumarrus -näyttelyssä palataan kartanoiden kukoistusaikaan 1800-luvulle ja eläydytään kepeästi romantiikan ajan salongin tunnelmaan. Tarjolla on liedejä\, leivoksia ja franseesia!\nIllan aluksi Arabia kaikuu -liedkollektiivi esittää dramatisoidun konsertin otsikolla Danse macabre – henkirikoksia herraskartanossa. Kartanossa juhlitaan kevättä. Patruuna julistaa\, että tänään ei syljetä lasiin\, ja juhlaväki on hilpeällä mielellä. Kartanon kummitus seuraa elävien ilakointia haikeana – kunnes saa yllättäen seuraa: Yksi juhlijoista tuupertuu kuolleena maahan. Ja ennen pitkää toinenkin. Salaisuudet ja katkerat kaunat johtavat murhaan toisensa jälkeen. Mutta kuka onkaan murhaaja? Esityksessä kuullaan muun muassa W. A. Mozartin\, J. Straussin ja O. Merikannon sävellyksiä.\nVäliajalla voi ostaa Kalevan Marttojen kahvipuhvetista kartanoon sopivia vanhanajan leivonnaisia. Illan päättävien tanssiaisten aluksi Seurasaaren Kansantanssijat esittää 1800-luvulla suositun franseesin\, jota yleisökin pääsee opettelemaan. Lopuksi kaikki saavat pyörähdellä valssia kristallikruunun alla pianon säestyksellä.\nHelsingin kaupunginmuseon kokoelmiin kuuluva August Mannerheimin piirros 1840-luvulta antaa eloisan kuvan aikakauden salonkien tunnelmasta\, jonka Hakasalmen huvilan tapahtuma herättää henkiin.\nLiput 25 €\n 
LOCATION:Hakasalmen huvila\, Mannerheimintie 13 b\, 00100\, Helsinki\,
 Suomi
URL:http://ssl.eventilla.com/event/NPEKp
END:VEVENT
END:VCALENDAR
