BEGIN:VCALENDAR
METHOD:PUBLISH
VERSION:2.0
PRODID:-//Eventilla iCal Syndication//NONSGML Liana//EN
BEGIN:VEVENT
UID:NPN8p@eventilla.com
DTSTAMP:20260530T170000Z
DTSTART:20260530T170000Z
DTEND:20260530T233000Z
SUMMARY:Karttakepin katkojaiset 2026
DESCRIPTION:     \n \nKarttakepin katkojaiset 2026\n \nOpetusalan vuoden odotetuinta päätöstapahtumaa Karttakepin katkojaisia juhlitaan lauantaina 30.5.2026 Oulussa Radisson Blu -hotellilla. Kaikki alueemme kasvatusalan ammattilaiset ovat tervetulleita viettämään yhdessä alkavan kesän parasta iltaa! Mahtavien ihmisten\, hellivän auringon ja alkavan loman lisäksi juhlan ohjelmaa täydentävät elävällä musiikilla Oulun alueen loisteliaat opettajataustaiset orkesterit Aki Mikkonen Band\, karttakeppien konkariorkesteri Lost in Music ja Kesäkaverit. Illan tanssimusiikista vastaa DJ qke.\n \nFacebook-tapahtumasivuille\n \nEnnakkolippu illan karkeloihin kustantaa 12\,50 € sisältäen sähköisen järjestelmän toimitusmaksun. Maksamisen jälkeen puhelimeen tulee QR-koodillinen lippu Karttakepin katkojaisiin\, joka on kertakäyttöinen ja luetaan tapahtumailtana sisääntulon yhteydessä.\n \nMikäli et saa sähköpostiisi viestiä Eventilla-järjestelmästä ilmoittautumisesi jälkeen\, tarkista ettei se ole mennyt sähköpostissasi roskapostiin tai Tarpeettomat -kansioon. 
LOCATION:Radisson Blu Oulu\, Hallituskatu 1\, 90100\, Oulu
URL:http://ssl.eventilla.com/katkojaiset26
END:VEVENT
END:VCALENDAR
