BEGIN:VCALENDAR
METHOD:PUBLISH
VERSION:2.0
PRODID:-//Eventilla iCal Syndication//NONSGML Liana//EN
BEGIN:VEVENT
UID:NPaE6@eventilla.com
DTSTAMP:20260607T210000Z
DTSTART:20260607T210000Z
DTEND:20260611T210000Z
SUMMARY:Lasten puuhaviikko 2\, 8.-12.6.2026
LOCATION:STEP-koulutus\, Järvenpääntie 640, 04400 Järvenpää\,
 Järvenpää
URL:http://ssl.eventilla.com/event/NPaE6
END:VEVENT
END:VCALENDAR
